BEGIN:VCALENDAR
VERSION:2.0
PRODID:-//Tukios.com/
BEGIN:VEVENT
UID:8e0af191-7d7a-4570-991e-ff54b83a9f81@www.moserfuneralservice.com
DTSTAMP:20260422T212355Z
DTSTART:20260501T160000Z
DTEND:20260501T170000Z
SUMMARY:Funeral Service
DESCRIPTION:
URL:https://www.moserfuneralservice.com/obituaries/erlinda-linda-stimple
LOCATION:Greeley Seventh-day Adventist Church 1002 21st Ave  Greeley CO 
	80631
GEO:40.4223953;-104.710889
END:VEVENT
END:VCALENDAR