BEGIN:VCALENDAR
VERSION:2.0
PRODID:-//Tukios.com/
BEGIN:VEVENT
UID:fed7185b-1ae7-463e-850c-c34f78e3f7ef@www.moserfuneralservice.com
DTSTAMP:20260422T211546Z
DTSTART:20260501T171500Z
DTEND:20260501T181500Z
SUMMARY:Interment
DESCRIPTION:
URL:https://www.moserfuneralservice.com/obituaries/erlinda-linda-stimple
LOCATION: 1700 Cedar Ave  Greeley CO 80631
GEO:40.411928;-104.655973
END:VEVENT
END:VCALENDAR