BEGIN:VCALENDAR
VERSION:2.0
PRODID:-//Tukios.com/
BEGIN:VEVENT
UID:c453bf2c-7edb-4a14-8770-d55d7964ee9d@www.moserfuneralservice.com
DTSTAMP:20260424T211208Z
DTSTART:20260503T200000Z
DTEND:20260503T220000Z
SUMMARY:Memorial Gathering
DESCRIPTION:
URL:https://www.moserfuneralservice.com/obituaries/gail-ford
LOCATION:Riverside Library and Cultural Center 3700 Golden Street  Evans 
	CO 80620
GEO:40.376678;-104.6881142
END:VEVENT
END:VCALENDAR