BEGIN:VCALENDAR
VERSION:2.0
PRODID:-//Tukios.com/
BEGIN:VEVENT
UID:26e3f629-f090-48a7-98aa-cc868d010118@www.moserfuneralservice.com
DTSTAMP:20260421T114503Z
DTSTART:20260425T200000Z
DTEND:20260425T210000Z
SUMMARY:Celebration of Life
DESCRIPTION:
URL:https://www.moserfuneralservice.com/obituaries/ralph-brethauer
LOCATION:The Moser Funeral Service Chapel 3501 11th Ave  Evans CO 80620
GEO:40.3803733;-104.6973579
END:VEVENT
END:VCALENDAR