BEGIN:VCALENDAR
VERSION:2.0
PRODID:-//Tukios.com/
BEGIN:VEVENT
UID:08b5db43-de90-4f5d-9787-12c286861628@www.moserfuneralservice.com
DTSTAMP:20260424T205350Z
DTSTART:20260502T200000Z
DTEND:20260502T210000Z
SUMMARY:Memorial Service
DESCRIPTION:
URL:https://www.moserfuneralservice.com/obituaries/sharon-lantz
LOCATION:City Lights Church 7251 West 4th Street  Greeley CO 80634
GEO:40.4302074;-104.7956593
END:VEVENT
END:VCALENDAR